BEGIN:VCALENDAR
VERSION:2.0
PRODID:-//hacksw/handcal//NONSGML v1.0//EN
BEGIN:VEVENT
SUMMARY:Match de championnat Seniors D4
UID:0af8dea9-37f1-4517-adbf-d3afeb8fb32a
DTSTART:20260426T103000Z
DTEND:20260426T220000Z
LOCATION:Localisation   
CATEGORIES:Sportif
STATUS:
URL;VALUE=URI:https://ussfoot.sportsregions.fr/evenements/2026/04/26/match-de-championnat-seniors-d4-2443187
END:VEVENT
END:VCALENDAR
