BEGIN:VCALENDAR
VERSION:2.0
PRODID:-//hacksw/handcal//NONSGML v1.0//EN
BEGIN:VEVENT
SUMMARY:Match de championnat Seniors D2
UID:abff32b5-a64a-4813-87cf-515ed0ad9ba0
DTSTART:20260426T130000Z
DTEND:20260426T220000Z
LOCATION:Localisation   
CATEGORIES:Sportif
STATUS:
URL;VALUE=URI:https://ussfoot.sportsregions.fr/evenements/2026/04/26/match-de-championnat-seniors-d2-2443183
END:VEVENT
END:VCALENDAR
