BEGIN:VCALENDAR
VERSION:2.0
PRODID:-//hacksw/handcal//NONSGML v1.0//EN
BEGIN:VEVENT
SUMMARY:Match de championnat U15 D1
UID:d92704ed-52a6-41c5-a9c5-871b0843fe2b
DTSTART:20260425T130000Z
DTEND:20260425T220000Z
LOCATION:Localisation   
CATEGORIES:Sportif
STATUS:
URL;VALUE=URI:https://ussfoot.sportsregions.fr/evenements/2026/04/25/match-de-championnat-u15-d1-2443191
END:VEVENT
END:VCALENDAR
