BEGIN:VCALENDAR
VERSION:2.0
PRODID:-//hacksw/handcal//NONSGML v1.0//EN
BEGIN:VEVENT
SUMMARY:Match de championnat Seniors D4
UID:4a8cf808-6c39-4972-b761-caef019bd9a0
DTSTART:20260405T103000Z
DTEND:20260405T220000Z
LOCATION:Localisation   
CATEGORIES:Sportif
STATUS:
URL;VALUE=URI:https://ussfoot.sportsregions.fr/evenements/2026/04/05/match-de-championnat-seniors-d4-2438934
END:VEVENT
END:VCALENDAR
